BEGIN:VCALENDAR
VERSION:2.0
PRODID:-//Angel Babies Matter Network - ECPv6.15.20//NONSGML v1.0//EN
CALSCALE:GREGORIAN
METHOD:PUBLISH
X-ORIGINAL-URL:https://angelbabiesmatter.com
X-WR-CALDESC:Events for Angel Babies Matter Network
REFRESH-INTERVAL;VALUE=DURATION:PT1H
X-Robots-Tag:noindex
X-PUBLISHED-TTL:PT1H
BEGIN:VTIMEZONE
TZID:UTC
BEGIN:STANDARD
TZOFFSETFROM:+0000
TZOFFSETTO:+0000
TZNAME:UTC
DTSTART:20220101T000000
END:STANDARD
END:VTIMEZONE
BEGIN:VEVENT
DTSTART;VALUE=DATE:20230110
DTEND;VALUE=DATE:20230111
DTSTAMP:20260425T143305
CREATED:20220524T102919Z
LAST-MODIFIED:20230123T175432Z
UID:941-1673308800-1673395199@angelbabiesmatter.com
SUMMARY:Founder’s Day Celebration
DESCRIPTION:Founder’s Day Celebration will raise awareness of why our organization exists\, population affected and what you can do to help moms and families who were expecting a baby but gained an Angel instead.
URL:https://angelbabiesmatter.com/event/founders-day-celebration/
END:VEVENT
END:VCALENDAR