BEGIN:VCALENDAR
VERSION:2.0
PRODID:-//Angel Babies Matter Network - ECPv6.15.20//NONSGML v1.0//EN
CALSCALE:GREGORIAN
METHOD:PUBLISH
X-ORIGINAL-URL:https://angelbabiesmatter.com
X-WR-CALDESC:Events for Angel Babies Matter Network
REFRESH-INTERVAL;VALUE=DURATION:PT1H
X-Robots-Tag:noindex
X-PUBLISHED-TTL:PT1H
BEGIN:VTIMEZONE
TZID:UTC
BEGIN:STANDARD
TZOFFSETFROM:+0000
TZOFFSETTO:+0000
TZNAME:UTC
DTSTART:20220101T000000
END:STANDARD
END:VTIMEZONE
BEGIN:VEVENT
DTSTART;TZID=UTC:20260414T180000
DTEND;TZID=UTC:20260414T190000
DTSTAMP:20260423T191553
CREATED:20260413T201437Z
LAST-MODIFIED:20260413T201437Z
UID:3654-1776189600-1776193200@angelbabiesmatter.com
SUMMARY:Angel Babies Matter Network Healing Circle
DESCRIPTION:Join us for a safe\, supportive virtual healing circle with pyschotherapist\, Jenet Dove. \n\n\n\n\n\n\n\n\nThis space is open to: \n• Mothers who have experienced pregnancy or infant loss• Those who love and support them• Anyone who wants to be in community and hold space with care \nOur Healing Circle is a space without pressure or expectations. You’re welcome to: \n• Speak and share what’s on your heart• Sit quietly and take it in• Ask questions or reflect• Or simply show up and be here \nThere is no right way to participate. Just come as you are. 🕊️ \n\n\n\n\n\n\n\n\n Date: Tuesday\, April 14\n Time: 6:00 PM (Central Time)\n Location: Virtual (link sent after RSVP) \n RSVP is required. \nOnce you RSVP\, you will receive an email with the private meeting link and event details.
URL:https://angelbabiesmatter.com/event/angel-babies-matter-network-healing-circle/
CATEGORIES:Virtual
END:VEVENT
BEGIN:VEVENT
DTSTART;TZID=UTC:20260210T180000
DTEND;TZID=UTC:20260210T190000
DTSTAMP:20260423T191553
CREATED:20260210T021322Z
LAST-MODIFIED:20260210T021322Z
UID:3599-1770746400-1770750000@angelbabiesmatter.com
SUMMARY:🌸 Angel Babies Matter Network Healing Circle
DESCRIPTION:Join us for a safe\, supportive virtual healing circle hosted by Angel Babies Matter Network.\nThis space is open to: \n— Mothers who have experienced pregnancy or infant loss\n— Friends\, family members\, and supporters who want to hold space\n— Anyone seeking community\, understanding\, and gentle conversation \nOur Healing Circle is a judgment-free space where you may:\n— Share your story\n— Listen quietly\n— Ask questions\n— Or simply be present \n Date: Tuesday\, February 10\n Time: 6:00 PM (Central Time)\n Location: Virtual (link sent after RSVP)\n RSVP is required.\nOnce you RSVP\, you will receive an email with the private meeting link and event details.
URL:https://angelbabiesmatter.com/event/%f0%9f%8c%b8-angel-babies-matter-network-healing-circle/
CATEGORIES:Virtual
END:VEVENT
BEGIN:VEVENT
DTSTART;TZID=UTC:20251014T190000
DTEND;TZID=UTC:20251014T200000
DTSTAMP:20260423T191553
CREATED:20251008T140034Z
LAST-MODIFIED:20251008T140453Z
UID:3294-1760468400-1760472000@angelbabiesmatter.com
SUMMARY:ABMN Healing Circle Virtual Kickoff : Wave of Light
DESCRIPTION:Hosted by: Angel Babies Matter Network (ABMN)\nFeaturing: Jenet Dove\, LPC — Jenet Dove Counseling Services\, PLLC\nDate: Tuesday\, October 14\, 7:00 PM CT  – 7:40 pm\nWhere: Virtual (Zoom) — [Join Link]\nMeeting ID: 896 5900 9777\nPasscode: NfL6mn \nThis event is free to attend! \nQuestions: angelbabiesmatter@gmail.com \nWhy October matters\nOctober is Pregnancy & Infant Loss Awareness Month. Together we honor our babies\, make space for grief and healing\, and remind families they are not alone. Our Wave of Light gathering is a gentle\, community‑led moment to remember\, reflect\, and receive care. \nHave your candles ready as we honor our angel babies on-screen. We’ll start with our Wave of Light Tribute and then have a Mini Healing Session. Join us for our inaugural Healing Circle with psychotherapist Jenet Dove!
URL:https://angelbabiesmatter.com/event/abmn-healing-circle-virtual-kickoff-wave-of-light/
CATEGORIES:Virtual
END:VEVENT
BEGIN:VEVENT
DTSTART;VALUE=DATE:20231001
DTEND;VALUE=DATE:20231002
DTSTAMP:20260423T191553
CREATED:20220504T174013Z
LAST-MODIFIED:20230202T033948Z
UID:692-1696118400-1696204799@angelbabiesmatter.com
SUMMARY:Angel Babies Matter Network Honors Our Angel Babies
DESCRIPTION:Join us on remembrance day!
URL:https://angelbabiesmatter.com/event/angel-babies-matter-network-honors-our-angel-babies/
CATEGORIES:Virtual
END:VEVENT
END:VCALENDAR