BEGIN:VCALENDAR
VERSION:2.0
PRODID:-//Angel Babies Matter Network - ECPv6.15.20//NONSGML v1.0//EN
CALSCALE:GREGORIAN
METHOD:PUBLISH
X-ORIGINAL-URL:https://angelbabiesmatter.com
X-WR-CALDESC:Events for Angel Babies Matter Network
REFRESH-INTERVAL;VALUE=DURATION:PT1H
X-Robots-Tag:noindex
X-PUBLISHED-TTL:PT1H
BEGIN:VTIMEZONE
TZID:UTC
BEGIN:STANDARD
TZOFFSETFROM:+0000
TZOFFSETTO:+0000
TZNAME:UTC
DTSTART:20240101T000000
END:STANDARD
END:VTIMEZONE
BEGIN:VEVENT
DTSTART;TZID=UTC:20251014T190000
DTEND;TZID=UTC:20251014T200000
DTSTAMP:20260426T023625
CREATED:20251008T140034Z
LAST-MODIFIED:20251008T140453Z
UID:3294-1760468400-1760472000@angelbabiesmatter.com
SUMMARY:ABMN Healing Circle Virtual Kickoff : Wave of Light
DESCRIPTION:Hosted by: Angel Babies Matter Network (ABMN)\nFeaturing: Jenet Dove\, LPC — Jenet Dove Counseling Services\, PLLC\nDate: Tuesday\, October 14\, 7:00 PM CT  – 7:40 pm\nWhere: Virtual (Zoom) — [Join Link]\nMeeting ID: 896 5900 9777\nPasscode: NfL6mn \nThis event is free to attend! \nQuestions: angelbabiesmatter@gmail.com \nWhy October matters\nOctober is Pregnancy & Infant Loss Awareness Month. Together we honor our babies\, make space for grief and healing\, and remind families they are not alone. Our Wave of Light gathering is a gentle\, community‑led moment to remember\, reflect\, and receive care. \nHave your candles ready as we honor our angel babies on-screen. We’ll start with our Wave of Light Tribute and then have a Mini Healing Session. Join us for our inaugural Healing Circle with psychotherapist Jenet Dove!
URL:https://angelbabiesmatter.com/event/abmn-healing-circle-virtual-kickoff-wave-of-light/
CATEGORIES:Virtual
END:VEVENT
END:VCALENDAR