BEGIN:VCALENDAR
VERSION:2.0
PRODID:-//Angel Babies Matter Network - ECPv6.15.20//NONSGML v1.0//EN
CALSCALE:GREGORIAN
METHOD:PUBLISH
X-WR-CALNAME:Angel Babies Matter Network
X-ORIGINAL-URL:https://angelbabiesmatter.com
X-WR-CALDESC:Events for Angel Babies Matter Network
REFRESH-INTERVAL;VALUE=DURATION:PT1H
X-Robots-Tag:noindex
X-PUBLISHED-TTL:PT1H
BEGIN:VTIMEZONE
TZID:UTC
BEGIN:STANDARD
TZOFFSETFROM:+0000
TZOFFSETTO:+0000
TZNAME:UTC
DTSTART:20230101T000000
END:STANDARD
END:VTIMEZONE
BEGIN:VTIMEZONE
TZID:America/Chicago
BEGIN:DAYLIGHT
TZOFFSETFROM:-0600
TZOFFSETTO:-0500
TZNAME:CDT
DTSTART:20230312T080000
END:DAYLIGHT
BEGIN:STANDARD
TZOFFSETFROM:-0500
TZOFFSETTO:-0600
TZNAME:CST
DTSTART:20231105T070000
END:STANDARD
BEGIN:DAYLIGHT
TZOFFSETFROM:-0600
TZOFFSETTO:-0500
TZNAME:CDT
DTSTART:20240310T080000
END:DAYLIGHT
BEGIN:STANDARD
TZOFFSETFROM:-0500
TZOFFSETTO:-0600
TZNAME:CST
DTSTART:20241103T070000
END:STANDARD
BEGIN:DAYLIGHT
TZOFFSETFROM:-0600
TZOFFSETTO:-0500
TZNAME:CDT
DTSTART:20250309T080000
END:DAYLIGHT
BEGIN:STANDARD
TZOFFSETFROM:-0500
TZOFFSETTO:-0600
TZNAME:CST
DTSTART:20251102T070000
END:STANDARD
END:VTIMEZONE
BEGIN:VEVENT
DTSTART;TZID=UTC:20241020T150000
DTEND;TZID=UTC:20241020T170000
DTSTAMP:20260423T190617
CREATED:20241001T012756Z
LAST-MODIFIED:20241012T052100Z
UID:2808-1729436400-1729443600@angelbabiesmatter.com
SUMMARY:🌟 Shine Bright for Angel Babies Who Matter - A Kendra Scott Gives Back! 🌟
DESCRIPTION:Angel Babies Matter Network is hosting a special fundraiser on October 20\, 2024\, from 3-4 PM at Kendra Scott Jewelry—and you’re invited! \n\n\nWhether you’re treating yourself or picking out a meaningful gift for a mother of an angel\, 20% of your purchase will benefit our mission to support families impacted by infant loss. \n\n\n Join us in-store for a chance to win giveaways\, enjoy light refreshments\, and meet our founder\, Danielle Saizan Houston.\n\n\n Can’t make it in person? No worries! You can still shop online and support us—just use the special discount code at checkout! The giveback code is GIVEBACK-HRUDD and will be live from 10/20 – 10/21.\n\n\nEvery purchase helps us continue the important work of supporting grieving families. Together\, we make a difference. \n\n\n Have questions? Reach out to us at:\nangelbabiesmatter@gmail.com or send us a DM.\n\n\nSee you there! \n\n\n#Fundraiser #AngelBabiesMatter #KendraScott #ShopForACause #SupportNonProfits #AngelMoms #FundraisingEvent\n\n\n#angelbabies #angelbabiesmatter #PAILAwareness #pregnancyandinfantlossawareness #PAIL #miscarriage #ectopicpregnancy #stillbirth #neonatalloss #neonataldeath #infantloss #communityservice #griefsupport\n\n\nhttps://www.kendrascott.com/\n\n\nThe giveback code is GIVEBACK-HRUDD and will be live from 10/20 – 10/21
URL:https://angelbabiesmatter.com/event/pail24/
CATEGORIES:Community Service Event,Fundraiser
ATTACH;FMTTYPE=image/jpeg:https://angelbabiesmatter.com/wp-content/uploads/2024/10/462709081_10102221658645593_91039120078663868_n.jpg
END:VEVENT
BEGIN:VEVENT
DTSTART;TZID=America/Chicago:20240115T090000
DTEND;TZID=America/Chicago:20240115T120000
DTSTAMP:20260423T190617
CREATED:20240114T224129Z
LAST-MODIFIED:20240114T225127Z
UID:2363-1705309200-1705320000@angelbabiesmatter.com
SUMMARY:MLK Day of Service - Touched by Angel Community Service Event
DESCRIPTION:We are honored to have Alpha Kappa Alpha Sorority\, Inc.® Chi Omicron Omega Chapter and Alpha Alpha Eta Omega Chapter and the Alpha Phi Alpha Fraternity\, Inc.® Sigma Gamma Lambda Chapter to collaborate with us for their International We Are One: Dr. Martin Luther King\, Jr.\, Day of Service initiative. We will assemble 200 care packages to be donated to hospitals and clinics for moms who will go home without their angel babies who matter. \nThe care packages will put mental health resources and tokens of love and support into the arms of grieving moms. Our care packages may include a handmade mini baby quilt\, seeds for a healing garden\, an ABMN journal\, an ABMN wristband/button\, a Pregnancy and Infant Loss (PAIL) blue and pink ribbon\, an angel keychain\, scented candle\, National Alliance on Mental Illness (NAMI) pamphlets for Baby Blues; PAIL reading material\, crisis hotline information\, handwritten notes\, and invitations to join our NAMI Healing Circle and the Angel Babies Matter Network. \n  \n 
URL:https://angelbabiesmatter.com/event/mlk-day-of-service-touched-by-angel-community-service-event/
LOCATION:Crave Fusion Bistro\, 11702 Grant Rd suite c\,\, Cypres\, 77429\, United States
CATEGORIES:Community Service Event
END:VEVENT
END:VCALENDAR